BEGIN:VCALENDAR
VERSION:2.0
PRODID:gruene-nordenham.de
METHOD:PUBLISH
BEGIN:VTIMEZONE
TZID:Europe/Berlin
X-LIC-LOCATION:Europe/Berlin
BEGIN:DAYLIGHT
TZOFFSETFROM:+0100
TZOFFSETTO:+0200
TZNAME:CEST
DTSTART:19700329T020000
RRULE:FREQ=YEARLY;INTERVAL=1;BYDAY=-1SU;BYMONTH=3
END:DAYLIGHT
BEGIN:STANDARD
TZOFFSETFROM:+0200
TZOFFSETTO:+0100
TZNAME:CET
DTSTART:19701025T030000
RRULE:FREQ=YEARLY;INTERVAL=1;BYDAY=-1SU;BYMONTH=10
END:STANDARD
END:VTIMEZONE
BEGIN:VEVENT
UID:7b1d7c21db70ee46671121cfb760b721@gruene-nordenham.de
URL;VALUE=URI:https://gruene-nordenham.de/termine/ortsrat-abbehausen/
LOCATION:Butjadinger Tor, Nordenham-Abbehausen
SUMMARY:Ortsrat Abbehausen
DESCRIPTION;ALTREP="data:text/html,%0A%3Cp%3EDie%20Ortsrat%20Abbehausen%2
 0tagt.%20Alle%20Sitzungen%20des%20Rates%20sind%20%C3%B6ffentlich%2C%20sof
 ern%20nicht%20anders%20geregelt%20bzw.%20beschlossen.%20Also%20komm%20ger
 ne%20vorbei%21%3C%2Fp%3E%0A%0A%0A%0A%3Cp%3EDie%20L%C3%A4nge%20der%20Sitzu
 ngen%20k%C3%B6nnen%20jederzeit%20variieren.%20Weitere%20Infos%20und%20Ter
 mine%20findest%20du%20im%C2%A0%3Ca%20rel%3D%22noreferrer%20noopener%22%20
 href%3D%22https%3A%2F%2Fwww.nordenham.de%2Fde%2Frathaus%2Fpolitik%2Fsitzu
 ngstermine%22%20target%3D%22_blank%22%3ESitzungskalender%3C%2Fa%3E%C2%A0a
 uf%20der%20Website%20der%20Stadt%20Nordenham.%3C%2Fp%3E%0A":Die Ortsrat A
 bbehausen tagt. Alle Sitzungen des Rates sind öffentlich\, sofern nicht 
 anders geregelt bzw. beschlossen. Also komm gerne vorbei!\n\nDie Länge d
 er Sitzungen können jederzeit variieren. Weitere Infos und Termine finde
 st du im Sitzungskalender auf der Website der Stadt Nordenham.
CLASS:PUBLIC
DTSTART;TZID=Europe/Berlin:20220126T190000
DTEND;TZID=Europe/Berlin:20220126T210000
DTSTAMP:20260421T101518
END:VEVENT
END:VCALENDAR