BEGIN:VCALENDAR
VERSION:2.0
PRODID:gruene-nordenham.de
METHOD:PUBLISH
BEGIN:VTIMEZONE
TZID:Europe/Berlin
X-LIC-LOCATION:Europe/Berlin
BEGIN:DAYLIGHT
TZOFFSETFROM:+0100
TZOFFSETTO:+0200
TZNAME:CEST
DTSTART:19700329T020000
RRULE:FREQ=YEARLY;INTERVAL=1;BYDAY=-1SU;BYMONTH=3
END:DAYLIGHT
BEGIN:STANDARD
TZOFFSETFROM:+0200
TZOFFSETTO:+0100
TZNAME:CET
DTSTART:19701025T030000
RRULE:FREQ=YEARLY;INTERVAL=1;BYDAY=-1SU;BYMONTH=10
END:STANDARD
END:VTIMEZONE
BEGIN:VEVENT
UID:204409025e78007995cc054ef489c4b0@gruene-nordenham.de
URL;VALUE=URI:https://gruene-nordenham.de/termine/wahlkampfstand-2/
LOCATION:Marktplatz Nordenham
SUMMARY:Wahlkampfstand
DESCRIPTION;ALTREP="data:text/html,%0A%3Cp%3ETriff%20uns%20bei%20unserem%
 20Stand%20auf%20dem%20Nordenhamer%20Wochenmarkt%20und%20komme%20mit%20uns
 %20ins%20Gespr%C3%A4ch%20und%20lerne%20uns%20kennen%21%20Wir%20erz%C3%A4h
 len%20von%20unseren%20Zielen%20und%20Ideen%20f%C3%BCr%20Nordenham%20und%2
 0stehen%20gerne%20Rede%20und%20Antwort%2C%20wenn%20noch%20Fragen%20offen%
 20sind.%3C%2Fp%3E%0A%0A%0A%0A%3Cp%3EAu%C3%9Ferdem%20m%C3%B6chten%20wir%20
 gerne%20wissen%2C%20was%20Dir%20auf%20dem%20Herzen%20liegt%20und%20welche
 %20Ideen%20und%20Anliegen%20Du%20noch%20f%C3%BCr%20Nordenham%20hast%20und
 %20wir%20mit%20in%20unsere%20politische%20Arbeit%20nehmen%20k%C3%B6nnen.%
 3C%2Fp%3E%0A":Triff uns bei unserem Stand auf dem Nordenhamer Wochenmarkt
  und komme mit uns ins Gespräch und lerne uns kennen! Wir erzählen von 
 unseren Zielen und Ideen für Nordenham und stehen gerne Rede und Antwort
 \, wenn noch Fragen offen sind.\n\nAußerdem möchten wir gerne wissen\, 
 was Dir auf dem Herzen liegt und welche Ideen und Anliegen Du noch für N
 ordenham hast und wir mit in unsere politische Arbeit nehmen können.
CLASS:PUBLIC
DTSTART;TZID=Europe/Berlin:20210824T090000
DTEND;TZID=Europe/Berlin:20210824T120000
DTSTAMP:20260421T100022
END:VEVENT
END:VCALENDAR